BEGIN:VCALENDAR
VERSION:2.0
PRODID:-//OmniMagnetCalendar//EN
BEGIN:VEVENT
DTSTAMP:20190625T195740Z
STATUS:CONFIRMED
UID:harvardlatino.sigs.harvard.edu136
DTSTART:20150205T070000Z
DTEND:20150206T180000Z
LOCATION:
SUMMARY:Harvard Alumni Leadership Conference
DESCRIPTION:
BEGIN:VALARM
TRIGGER:-PT15M
ACTION:DISPLAY
END:VALARM
TRANSP:OPAQUE
END:VEVENT
END:VCALENDAR
