BEGIN:VCALENDAR
VERSION:2.0
PRODID:-//OmniMagnetCalendar//EN
BEGIN:VEVENT
DTSTAMP:20190625T195740Z
STATUS:CONFIRMED
UID:harvardlatino.sigs.harvard.edu166
DTSTART:20190204T163000Z
DTEND:20190204T183000Z
LOCATION:Telemundo Center,  2350 NW 117th Place, Miami, FL, 33812, USA,
SUMMARY:Miami Area - Fireside Chat with Cesar Conde - Telemundo
DESCRIPTION:
BEGIN:VALARM
TRIGGER:-PT15M
ACTION:DISPLAY
END:VALARM
TRANSP:OPAQUE
END:VEVENT
END:VCALENDAR
