BEGIN:VCALENDAR
VERSION:2.0
PRODID:-//OmniMagnetCalendar//EN
BEGIN:VEVENT
DTSTAMP:20190625T195740Z
STATUS:CONFIRMED
UID:harvardlatino.sigs.harvard.edu206
DTSTART:20210122T200000Z
DTEND:20210122T213000Z
LOCATION:
SUMMARY:Unity Webinar: Reckoning with History: A Discussion on Reparations
DESCRIPTION:
BEGIN:VALARM
TRIGGER:-PT15M
ACTION:DISPLAY
END:VALARM
TRANSP:OPAQUE
END:VEVENT
END:VCALENDAR
