BEGIN:VCALENDAR
VERSION:2.0
PRODID:-//OmniMagnetCalendar//EN
BEGIN:VEVENT
DTSTAMP:20190625T195740Z
STATUS:CONFIRMED
UID:harvardlatino.sigs.harvard.edu209
DTSTART:20210918T170000Z
DTEND:20210918T181500Z
LOCATION:Virtual,
SUMMARY:Harvard Latinx Alumni Reunion: Celebrating Our History & Creating Our Legacy
DESCRIPTION:
BEGIN:VALARM
TRIGGER:-PT15M
ACTION:DISPLAY
END:VALARM
TRANSP:OPAQUE
END:VEVENT
END:VCALENDAR
