BEGIN:VCALENDAR
VERSION:2.0
PRODID:-//OmniMagnetCalendar//EN
BEGIN:VEVENT
DTSTAMP:20190625T195740Z
STATUS:CONFIRMED
UID:harvardlatino.sigs.harvard.edu217
DTSTART:20211009T183000Z
DTEND:20211009T193000Z
LOCATION:Virtual,
SUMMARY:Harvard Latinx Alumni Reunion: Keynote Address
DESCRIPTION:
BEGIN:VALARM
TRIGGER:-PT15M
ACTION:DISPLAY
END:VALARM
TRANSP:OPAQUE
END:VEVENT
END:VCALENDAR
